BEGIN:VCALENDAR
VERSION:2.0
PRODID:-//Victoria Hellenic Society - ECPv6.15.20//NONSGML v1.0//EN
CALSCALE:GREGORIAN
METHOD:PUBLISH
X-WR-CALNAME:Victoria Hellenic Society
X-ORIGINAL-URL:https://www.vvigcs.org
X-WR-CALDESC:Events for Victoria Hellenic Society
REFRESH-INTERVAL;VALUE=DURATION:PT1H
X-Robots-Tag:noindex
X-PUBLISHED-TTL:PT1H
BEGIN:VTIMEZONE
TZID:America/Vancouver
BEGIN:DAYLIGHT
TZOFFSETFROM:-0800
TZOFFSETTO:-0700
TZNAME:PDT
DTSTART:20230312T100000
END:DAYLIGHT
BEGIN:STANDARD
TZOFFSETFROM:-0700
TZOFFSETTO:-0800
TZNAME:PST
DTSTART:20231105T090000
END:STANDARD
BEGIN:DAYLIGHT
TZOFFSETFROM:-0800
TZOFFSETTO:-0700
TZNAME:PDT
DTSTART:20240310T100000
END:DAYLIGHT
BEGIN:STANDARD
TZOFFSETFROM:-0700
TZOFFSETTO:-0800
TZNAME:PST
DTSTART:20241103T090000
END:STANDARD
BEGIN:DAYLIGHT
TZOFFSETFROM:-0800
TZOFFSETTO:-0700
TZNAME:PDT
DTSTART:20250309T100000
END:DAYLIGHT
BEGIN:STANDARD
TZOFFSETFROM:-0700
TZOFFSETTO:-0800
TZNAME:PST
DTSTART:20251102T090000
END:STANDARD
BEGIN:DAYLIGHT
TZOFFSETFROM:-0800
TZOFFSETTO:-0700
TZNAME:PDT
DTSTART:20260308T100000
END:DAYLIGHT
BEGIN:STANDARD
TZOFFSETFROM:-0700
TZOFFSETTO:-0800
TZNAME:PST
DTSTART:20261101T090000
END:STANDARD
END:VTIMEZONE
BEGIN:VEVENT
DTSTART;TZID=America/Vancouver:20250223T110000
DTEND;TZID=America/Vancouver:20250223T130000
DTSTAMP:20260419T085200
CREATED:20250220T064015Z
LAST-MODIFIED:20250220T064015Z
UID:250162-1740308400-1740315600@www.vvigcs.org
SUMMARY:Visit from the Greek Ambassador & Consul General
DESCRIPTION:Light lunch to follow after church service
URL:https://www.vvigcs.org/event/visit-from-the-greek-ambassador-consul-general/
END:VEVENT
BEGIN:VEVENT
DTSTART;VALUE=DATE:20241028
DTEND;VALUE=DATE:20241029
DTSTAMP:20260419T085200
CREATED:20240513T061106Z
LAST-MODIFIED:20240513T061106Z
UID:250149-1730073600-1730159999@www.vvigcs.org
SUMMARY:National Resistance Day (28 October 1940)
DESCRIPTION:
URL:https://www.vvigcs.org/event/national-resistance-day-28-october-1940/
END:VEVENT
BEGIN:VEVENT
DTSTART;VALUE=DATE:20240830
DTEND;VALUE=DATE:20240903
DTSTAMP:20260419T085200
CREATED:20240327T054100Z
LAST-MODIFIED:20240327T054100Z
UID:250134-1724976000-1725321599@www.vvigcs.org
SUMMARY:GreekFest 2024 Week 2
DESCRIPTION:
URL:https://www.vvigcs.org/event/greekfest-2024-week-2/
END:VEVENT
BEGIN:VEVENT
DTSTART;VALUE=DATE:20240823
DTEND;VALUE=DATE:20240826
DTSTAMP:20260419T085200
CREATED:20240327T054016Z
LAST-MODIFIED:20240327T054326Z
UID:250132-1724371200-1724630399@www.vvigcs.org
SUMMARY:GreekFest 2024 Week 1
DESCRIPTION:
URL:https://www.vvigcs.org/event/greekfest-2023-week-1/
END:VEVENT
BEGIN:VEVENT
DTSTART;VALUE=DATE:20240505
DTEND;VALUE=DATE:20240506
DTSTAMP:20260419T085200
CREATED:20240327T052349Z
LAST-MODIFIED:20240327T052349Z
UID:250123-1714867200-1714953599@www.vvigcs.org
SUMMARY:Easter at the Greek Community
DESCRIPTION:Come celebrate Orthodox Easter with us at the Greek Community Hall
URL:https://www.vvigcs.org/event/easter-at-the-greek-community/
END:VEVENT
BEGIN:VEVENT
DTSTART;VALUE=DATE:20240401
DTEND;VALUE=DATE:20240402
DTSTAMP:20260419T085200
CREATED:20240327T052746Z
LAST-MODIFIED:20240327T052746Z
UID:250128-1711929600-1712015999@www.vvigcs.org
SUMMARY:1955 Cyprus Independence Movement Celebration
DESCRIPTION:
URL:https://www.vvigcs.org/event/1955-cyprus-independence-movement-celebration/
END:VEVENT
BEGIN:VEVENT
DTSTART;VALUE=DATE:20240325
DTEND;VALUE=DATE:20240326
DTSTAMP:20260419T085200
CREATED:20240327T052606Z
LAST-MODIFIED:20250220T070027Z
UID:250125-1711324800-1711411199@www.vvigcs.org
SUMMARY:March 25th 1821\, Independence Day
DESCRIPTION:
URL:https://www.vvigcs.org/event/1821-independence-revolution-celebration/
END:VEVENT
END:VCALENDAR