BEGIN:VCALENDAR
VERSION:2.0
PRODID:-//Victoria Hellenic Society - ECPv6.15.20//NONSGML v1.0//EN
CALSCALE:GREGORIAN
METHOD:PUBLISH
X-ORIGINAL-URL:https://www.vvigcs.org
X-WR-CALDESC:Events for Victoria Hellenic Society
REFRESH-INTERVAL;VALUE=DURATION:PT1H
X-Robots-Tag:noindex
X-PUBLISHED-TTL:PT1H
BEGIN:VTIMEZONE
TZID:America/Vancouver
BEGIN:DAYLIGHT
TZOFFSETFROM:-0800
TZOFFSETTO:-0700
TZNAME:PDT
DTSTART:20230312T100000
END:DAYLIGHT
BEGIN:STANDARD
TZOFFSETFROM:-0700
TZOFFSETTO:-0800
TZNAME:PST
DTSTART:20231105T090000
END:STANDARD
BEGIN:DAYLIGHT
TZOFFSETFROM:-0800
TZOFFSETTO:-0700
TZNAME:PDT
DTSTART:20240310T100000
END:DAYLIGHT
BEGIN:STANDARD
TZOFFSETFROM:-0700
TZOFFSETTO:-0800
TZNAME:PST
DTSTART:20241103T090000
END:STANDARD
BEGIN:DAYLIGHT
TZOFFSETFROM:-0800
TZOFFSETTO:-0700
TZNAME:PDT
DTSTART:20250309T100000
END:DAYLIGHT
BEGIN:STANDARD
TZOFFSETFROM:-0700
TZOFFSETTO:-0800
TZNAME:PST
DTSTART:20251102T090000
END:STANDARD
BEGIN:DAYLIGHT
TZOFFSETFROM:-0800
TZOFFSETTO:-0700
TZNAME:PDT
DTSTART:20260308T100000
END:DAYLIGHT
BEGIN:STANDARD
TZOFFSETFROM:-0700
TZOFFSETTO:-0800
TZNAME:PST
DTSTART:20261101T090000
END:STANDARD
END:VTIMEZONE
BEGIN:VEVENT
DTSTART;TZID=America/Vancouver:20250412T100000
DTEND;TZID=America/Vancouver:20250412T170000
DTSTAMP:20260419T084431
CREATED:20250408T074744Z
LAST-MODIFIED:20250409T010816Z
UID:250190-1744452000-1744477200@www.vvigcs.org
SUMMARY:Bake Sale - Spring/Easter 2025
DESCRIPTION:
URL:https://www.vvigcs.org/event/bake-sale-spring-easter-2025/
END:VEVENT
BEGIN:VEVENT
DTSTART;VALUE=DATE:20250420
DTEND;VALUE=DATE:20250421
DTSTAMP:20260419T084431
CREATED:20250220T070204Z
LAST-MODIFIED:20250220T070204Z
UID:250176-1745107200-1745193599@www.vvigcs.org
SUMMARY:Easter at the Greek Hall
DESCRIPTION:
URL:https://www.vvigcs.org/event/easter-at-the-greek-hall/
END:VEVENT
BEGIN:VEVENT
DTSTART;VALUE=DATE:20250822
DTEND;VALUE=DATE:20250826
DTSTAMP:20260419T084431
CREATED:20250220T070409Z
LAST-MODIFIED:20250220T070409Z
UID:250180-1755820800-1756166399@www.vvigcs.org
SUMMARY:GreekFest 2025 - Week 1
DESCRIPTION:
URL:https://www.vvigcs.org/event/greekfest-2025-week-1/
END:VEVENT
BEGIN:VEVENT
DTSTART;VALUE=DATE:20250829
DTEND;VALUE=DATE:20250902
DTSTAMP:20260419T084431
CREATED:20250220T070446Z
LAST-MODIFIED:20250220T070446Z
UID:250182-1756425600-1756771199@www.vvigcs.org
SUMMARY:GreekFest 2025 - Week 2
DESCRIPTION:
URL:https://www.vvigcs.org/event/greekfest-2025-week-2/
END:VEVENT
BEGIN:VEVENT
DTSTART;VALUE=DATE:20241028
DTEND;VALUE=DATE:20241029
DTSTAMP:20260419T084431
CREATED:20240513T061106Z
LAST-MODIFIED:20240513T061106Z
UID:250149-1730073600-1730159999@www.vvigcs.org
SUMMARY:National Resistance Day (28 October 1940)
DESCRIPTION:
URL:https://www.vvigcs.org/event/national-resistance-day-28-october-1940/
END:VEVENT
BEGIN:VEVENT
DTSTART;VALUE=DATE:20240325
DTEND;VALUE=DATE:20240326
DTSTAMP:20260419T084431
CREATED:20240327T052606Z
LAST-MODIFIED:20250220T070027Z
UID:250125-1711324800-1711411199@www.vvigcs.org
SUMMARY:March 25th 1821\, Independence Day
DESCRIPTION:
URL:https://www.vvigcs.org/event/1821-independence-revolution-celebration/
END:VEVENT
BEGIN:VEVENT
DTSTART;VALUE=DATE:20240401
DTEND;VALUE=DATE:20240402
DTSTAMP:20260419T084431
CREATED:20240327T052746Z
LAST-MODIFIED:20240327T052746Z
UID:250128-1711929600-1712015999@www.vvigcs.org
SUMMARY:1955 Cyprus Independence Movement Celebration
DESCRIPTION:
URL:https://www.vvigcs.org/event/1955-cyprus-independence-movement-celebration/
END:VEVENT
BEGIN:VEVENT
DTSTART;VALUE=DATE:20241028
DTEND;VALUE=DATE:20241029
DTSTAMP:20260419T084431
CREATED:20240513T061106Z
LAST-MODIFIED:20240513T061106Z
UID:250149-1730073600-1730159999@www.vvigcs.org
SUMMARY:National Resistance Day (28 October 1940)
DESCRIPTION:
URL:https://www.vvigcs.org/event/national-resistance-day-28-october-1940/
END:VEVENT
BEGIN:VEVENT
DTSTART;VALUE=DATE:20240325
DTEND;VALUE=DATE:20240326
DTSTAMP:20260419T084431
CREATED:20240327T052606Z
LAST-MODIFIED:20250220T070027Z
UID:250125-1711324800-1711411199@www.vvigcs.org
SUMMARY:March 25th 1821\, Independence Day
DESCRIPTION:
URL:https://www.vvigcs.org/event/1821-independence-revolution-celebration/
END:VEVENT
BEGIN:VEVENT
DTSTART;VALUE=DATE:20240401
DTEND;VALUE=DATE:20240402
DTSTAMP:20260419T084431
CREATED:20240327T052746Z
LAST-MODIFIED:20240327T052746Z
UID:250128-1711929600-1712015999@www.vvigcs.org
SUMMARY:1955 Cyprus Independence Movement Celebration
DESCRIPTION:
URL:https://www.vvigcs.org/event/1955-cyprus-independence-movement-celebration/
END:VEVENT
BEGIN:VEVENT
DTSTART;VALUE=DATE:20241028
DTEND;VALUE=DATE:20241029
DTSTAMP:20260419T084431
CREATED:20240513T061106Z
LAST-MODIFIED:20240513T061106Z
UID:250149-1730073600-1730159999@www.vvigcs.org
SUMMARY:National Resistance Day (28 October 1940)
DESCRIPTION:
URL:https://www.vvigcs.org/event/national-resistance-day-28-october-1940/
END:VEVENT
BEGIN:VEVENT
DTSTART;VALUE=DATE:20240325
DTEND;VALUE=DATE:20240326
DTSTAMP:20260419T084431
CREATED:20240327T052606Z
LAST-MODIFIED:20250220T070027Z
UID:250125-1711324800-1711411199@www.vvigcs.org
SUMMARY:March 25th 1821\, Independence Day
DESCRIPTION:
URL:https://www.vvigcs.org/event/1821-independence-revolution-celebration/
END:VEVENT
BEGIN:VEVENT
DTSTART;VALUE=DATE:20240401
DTEND;VALUE=DATE:20240402
DTSTAMP:20260419T084431
CREATED:20240327T052746Z
LAST-MODIFIED:20240327T052746Z
UID:250128-1711929600-1712015999@www.vvigcs.org
SUMMARY:1955 Cyprus Independence Movement Celebration
DESCRIPTION:
URL:https://www.vvigcs.org/event/1955-cyprus-independence-movement-celebration/
END:VEVENT
BEGIN:VEVENT
DTSTART;VALUE=DATE:20241028
DTEND;VALUE=DATE:20241029
DTSTAMP:20260419T084431
CREATED:20240513T061106Z
LAST-MODIFIED:20240513T061106Z
UID:250149-1730073600-1730159999@www.vvigcs.org
SUMMARY:National Resistance Day (28 October 1940)
DESCRIPTION:
URL:https://www.vvigcs.org/event/national-resistance-day-28-october-1940/
END:VEVENT
BEGIN:VEVENT
DTSTART;VALUE=DATE:20240325
DTEND;VALUE=DATE:20240326
DTSTAMP:20260419T084431
CREATED:20240327T052606Z
LAST-MODIFIED:20250220T070027Z
UID:250125-1711324800-1711411199@www.vvigcs.org
SUMMARY:March 25th 1821\, Independence Day
DESCRIPTION:
URL:https://www.vvigcs.org/event/1821-independence-revolution-celebration/
END:VEVENT
END:VCALENDAR